Workbook

Sheet Sample data collection question
A1: Suggested wording for the question is below - please edit as appropriate for your intended cohort
A2: Please do not collect individual child information, this tool is designed to collect aggregate data
A3: Possible options for data collection include: digital forms/suvreys (add this question to an existing school survey/form), send via email, online shared document with limited access
A4: Ensure that you are following all appropriate data collection and GDPR guidance when collecting, storign and processing data
A7: Please complete the following questionnaire about the potty training needs of children in your current Reception cohort.
A9: Reception cohort size
A10: Number of children arrived in nappies
A11: Number of children having frequent accidents
A12: Number of children with bowel or bladder medical diagnosis* * to exclude from total number of children not fully toilet trained

Sheet Data
A1: This worksheet includes formulas to calculate number of children not fully toilet trained with the exception of children with medical diagnosis, as well as relevant totals.
A2: This template is provided with test data to show functionality. Remove test data before inputting any real data.
A4: Name of School | B4: Name of Academy Trust or "Maintained" | C4: Number of current children in Reception cohort [YEAR 1] | D4: Number of current children in Reception cohort [YEAR 2] | E4: Number of children in cohort who started in nappies in Reception [YEAR 1] | F4: Number of children in cohort who started in nappies in Reception [YEAR 2] | G4: Number of children in cohort who were not in nappies but had constant accidents [YEAR 1] | H4: Number of children in cohort who were not in nappies but had constant accidents [YEAR 2] | I4: Number of children in cohort who had medically diagnosed bladder and bowel issues [YEAR 1] | J4: Number of children in cohort who had medically diagnosed bladder and bowel issues [YEAR 2] | K4: [YEAR 1] Number of children not fully toilet trained (with the exception of children with medical diagnosis) | L4: [YEAR 2] Number of children not fully toilet trained (with the exception of children with medical diagnosis) | M4: Notes
A5: Example School 1 | B5: ABC Maintained School | C5: 71 | D5: 86 | E5: 5 | F5: 2 | G5: 11 | H5: 4 | I5: 3 | J5: 2 | K5: =(Table1[[#This Row],[Number of children in cohort who started in nappies in Reception '[YEAR 1']]]+Table1[[#This Row],[Number of children in cohort who were not in nappies but had constant accidents '[YEAR 1']]])-Table1[[#This Row],[Number of children in cohort who had medically diagnosed bladder and bowel issues '[YEAR 1']]] -> 13 | L5: =(Table1[[#This Row],[Number of children in cohort who started in nappies in Reception '[YEAR 2']]]+Table1[[#This Row],[Number of children in cohort who were not in nappies but had constant accidents '[YEAR 2']]])-Table1[[#This Row],[Number of children in cohort who had medically diagnosed bladder and bowel issues '[YEAR 2']]] -> 4 | M5: Test data - Remove before use
A6: Example School 2 | B6: ABC Academy Trust | C6: 108 | D6: 97 | E6: 11 | F6: 6 | G6: 17 | H6: 6 | I6: 2 | J6: 1 | K6: =(Table1[[#This Row],[Number of children in cohort who started in nappies in Reception '[YEAR 1']]]+Table1[[#This Row],[Number of children in cohort who were not in nappies but had constant accidents '[YEAR 1']]])-Table1[[#This Row],[Number of children in cohort who had medically diagnosed bladder and bowel issues '[YEAR 1']]] -> 26 | L6: =(Table1[[#This Row],[Number of children in cohort who started in nappies in Reception '[YEAR 2']]]+Table1[[#This Row],[Number of children in cohort who were not in nappies but had constant accidents '[YEAR 2']]])-Table1[[#This Row],[Number of children in cohort who had medically diagnosed bladder and bowel issues '[YEAR 2']]] -> 11 | M6: Test data - Remove before use
K7: =(Table1[[#This Row],[Number of children in cohort who started in nappies in Reception '[YEAR 1']]]+Table1[[#This Row],[Number of children in cohort who were not in nappies but had constant accidents '[YEAR 1']]])-Table1[[#This Row],[Number of children in cohort who had medically diagnosed bladder and bowel issues '[YEAR 1']]] -> 0 | L7: =(Table1[[#This Row],[Number of children in cohort who started in nappies in Reception '[YEAR 2']]]+Table1[[#This Row],[Number of children in cohort who were not in nappies but had constant accidents '[YEAR 2']]])-Table1[[#This Row],[Number of children in cohort who had medically diagnosed bladder and bowel issues '[YEAR 2']]] -> 0
K8: =(Table1[[#This Row],[Number of children in cohort who started in nappies in Reception '[YEAR 1']]]+Table1[[#This Row],[Number of children in cohort who were not in nappies but had constant accidents '[YEAR 1']]])-Table1[[#This Row],[Number of children in cohort who had medically diagnosed bladder and bowel issues '[YEAR 1']]] -> 0 | L8: =(Table1[[#This Row],[Number of children in cohort who started in nappies in Reception '[YEAR 2']]]+Table1[[#This Row],[Number of children in cohort who were not in nappies but had constant accidents '[YEAR 2']]])-Table1[[#This Row],[Number of children in cohort who had medically diagnosed bladder and bowel issues '[YEAR 2']]] -> 0
K9: =(Table1[[#This Row],[Number of children in cohort who started in nappies in Reception '[YEAR 1']]]+Table1[[#This Row],[Number of children in cohort who were not in nappies but had constant accidents '[YEAR 1']]])-Table1[[#This Row],[Number of children in cohort who had medically diagnosed bladder and bowel issues '[YEAR 1']]] -> 0 | L9: =(Table1[[#This Row],[Number of children in cohort who started in nappies in Reception '[YEAR 2']]]+Table1[[#This Row],[Number of children in cohort who were not in nappies but had constant accidents '[YEAR 2']]])-Table1[[#This Row],[Number of children in cohort who had medically diagnosed bladder and bowel issues '[YEAR 2']]] -> 0
K10: =(Table1[[#This Row],[Number of children in cohort who started in nappies in Reception '[YEAR 1']]]+Table1[[#This Row],[Number of children in cohort who were not in nappies but had constant accidents '[YEAR 1']]])-Table1[[#This Row],[Number of children in cohort who had medically diagnosed bladder and bowel issues '[YEAR 1']]] -> 0 | L10: =(Table1[[#This Row],[Number of children in cohort who started in nappies in Reception '[YEAR 2']]]+Table1[[#This Row],[Number of children in cohort who were not in nappies but had constant accidents '[YEAR 2']]])-Table1[[#This Row],[Number of children in cohort who had medically diagnosed bladder and bowel issues '[YEAR 2']]] -> 0
K11: =(Table1[[#This Row],[Number of children in cohort who started in nappies in Reception '[YEAR 1']]]+Table1[[#This Row],[Number of children in cohort who were not in nappies but had constant accidents '[YEAR 1']]])-Table1[[#This Row],[Number of children in cohort who had medically diagnosed bladder and bowel issues '[YEAR 1']]] -> 0 | L11: =(Table1[[#This Row],[Number of children in cohort who started in nappies in Reception '[YEAR 2']]]+Table1[[#This Row],[Number of children in cohort who were not in nappies but had constant accidents '[YEAR 2']]])-Table1[[#This Row],[Number of children in cohort who had medically diagnosed bladder and bowel issues '[YEAR 2']]] -> 0
K12: =(Table1[[#This Row],[Number of children in cohort who started in nappies in Reception '[YEAR 1']]]+Table1[[#This Row],[Number of children in cohort who were not in nappies but had constant accidents '[YEAR 1']]])-Table1[[#This Row],[Number of children in cohort who had medically diagnosed bladder and bowel issues '[YEAR 1']]] -> 0 | L12: =(Table1[[#This Row],[Number of children in cohort who started in nappies in Reception '[YEAR 2']]]+Table1[[#This Row],[Number of children in cohort who were not in nappies but had constant accidents '[YEAR 2']]])-Table1[[#This Row],[Number of children in cohort who had medically diagnosed bladder and bowel issues '[YEAR 2']]] -> 0
A13: Total | C13: =SUM(Table1[Number of current children in Reception cohort '[YEAR 1']]) -> 179 | D13: =SUM(Table1[Number of current children in Reception cohort '[YEAR 2']]) -> 183 | E13: =SUM(Table1[Number of children in cohort who started in nappies in Reception '[YEAR 1']]) -> 16 | F13: =SUM(Table1[Number of children in cohort who started in nappies in Reception '[YEAR 2']]) -> 8 | G13: =SUM(Table1[Number of children in cohort who were not in nappies but had constant accidents '[YEAR 1']]) -> 28 | H13: =SUM(Table1[Number of children in cohort who were not in nappies but had constant accidents '[YEAR 2']]) -> 10 | I13: =SUM(Table1[Number of children in cohort who had medically diagnosed bladder and bowel issues '[YEAR 1']]) -> 5 | J13: =SUM(Table1[Number of children in cohort who had medically diagnosed bladder and bowel issues '[YEAR 2']]) -> 3 | K13: =SUM(Table1['[YEAR 1'] Number of children not fully toilet trained (with the exception of children with medical diagnosis)]) -> 39 | L13: =SUM(Table1['[YEAR 2'] Number of children not fully toilet trained (with the exception of children with medical diagnosis)]) -> 15
K14: Check these collumns for negative numbers. It may be the case that a child with medical diagnosis is potty trained. This will present as a negative number. In such cases, round-up to 0.
A17: DO NOT EDIT formulas: numbers below are calculated using data above
A18: YEAR 1 | B18: Number | C18: %
A19: Number of children starting Reception | B19: =Data!C13 -> 179
A20: Number of children not fully potty trained | B20: =Data!K13 -> 39 | C20: =(B20/B19)*100 -> 21.787709
A21: Number of children with medical diagnosis | B21: =Data!I13 -> 5 | C21: =(B21/B19)*100 -> 2.7932961
A23: YEAR 2 | B23: Number | C23: %
A24: Number of children starting Reception | B24: =Data!D13 -> 183
A25: Number of children not fully potty trained | B25: =Data!L13 -> 15 | C25: =(B25/B24)*100 -> 8.1967213
A26: Number of children with medical diagnosis | B26: =Data!J13 -> 3 | C26: =(B26/B24)*100 -> 1.6393443
A28: Impact assessment | B28: %
A29: Percentage point change | B29: =C20-C25 -> 13.590988 | C29: =IF(B29>0, "Improvement", "Decline") -> Improvement
A30: Proportional change | B30: =((C25-C20)/C20)*100 -> -62.379151 | C30: =IF(B30<0, "Reduction", "Increase") -> Reduction
